BEGIN:VCALENDAR
VERSION:2.0
PRODID:https://www.kufer.de/kuferweb / DE
METHOD:PUBLISH
CALSCALE:GREGORIAN
X-WR-TIMEZONE:Europe/Berlin
BEGIN:VTIMEZONE
TZID:Europe/Berlin
X-LIC-LOCATION:Europe/Berlin
BEGIN:DAYLIGHT
TZOFFSETFROM:+0100
TZOFFSETTO:+0200
TZNAME:CEST
DTSTART:19700329T020000
RRULE:FREQ=YEARLY;INTERVAL=1;BYDAY=-1SU;BYMONTH=3
END:DAYLIGHT
BEGIN:STANDARD
TZOFFSETFROM:+0200
TZOFFSETTO:+0100
TZNAME:CET
DTSTART:19701025T030000
RRULE:FREQ=YEARLY;INTERVAL=1;BYDAY=-1SU;BYMONTH=10
END:STANDARD
END:VTIMEZONE
BEGIN:VEVENT
DTSTAMP:20260420T103813
DTSTART;TZID=Europe/Berlin:20260115T191500
DTEND;TZID=Europe/Berlin:20260115T211500
UID:Y9028-20260115T191500@FABICELLE
SUMMARY:Aquarellmalen für Wiedereinsteiger*innen und mit leichten Vorkenntnissen (Y9028) 
LOCATION:Kreativraum, , 
END:VEVENT
BEGIN:VEVENT
DTSTAMP:20260420T103813
DTSTART;TZID=Europe/Berlin:20260129T191500
DTEND;TZID=Europe/Berlin:20260129T211500
UID:Y9028-20260129T191500@FABICELLE
SUMMARY:Aquarellmalen für Wiedereinsteiger*innen und mit leichten Vorkenntnissen (Y9028) 
LOCATION:Kreativraum, , 
END:VEVENT
BEGIN:VEVENT
DTSTAMP:20260420T103813
DTSTART;TZID=Europe/Berlin:20260205T190000
DTEND;TZID=Europe/Berlin:20260205T210000
UID:Y9028-20260205T190000@FABICELLE
SUMMARY:Aquarellmalen für Wiedereinsteiger*innen und mit leichten Vorkenntnissen (Y9028) 
LOCATION:Kreativraum, , 
END:VEVENT
BEGIN:VEVENT
DTSTAMP:20260420T103813
DTSTART;TZID=Europe/Berlin:20260212T190000
DTEND;TZID=Europe/Berlin:20260212T210000
UID:Y9028-20260212T190000@FABICELLE
SUMMARY:Aquarellmalen für Wiedereinsteiger*innen und mit leichten Vorkenntnissen (Y9028) 
LOCATION:Kreativraum, , 
END:VEVENT
BEGIN:VEVENT
DTSTAMP:20260420T103813
DTSTART;TZID=Europe/Berlin:20260219T190000
DTEND;TZID=Europe/Berlin:20260219T210000
UID:Y9028-20260219T190000@FABICELLE
SUMMARY:Aquarellmalen für Wiedereinsteiger*innen und mit leichten Vorkenntnissen (Y9028) 
LOCATION:Kreativraum, , 
END:VEVENT
BEGIN:VEVENT
DTSTAMP:20260420T103813
DTSTART;TZID=Europe/Berlin:20260226T190000
DTEND;TZID=Europe/Berlin:20260226T210000
UID:Y9028-20260226T190000@FABICELLE
SUMMARY:Aquarellmalen für Wiedereinsteiger*innen und mit leichten Vorkenntnissen (Y9028) 
LOCATION:Kreativraum, , 
END:VEVENT
BEGIN:VEVENT
DTSTAMP:20260420T103813
DTSTART;TZID=Europe/Berlin:20260305T190000
DTEND;TZID=Europe/Berlin:20260305T210000
UID:Y9028-20260305T190000@FABICELLE
SUMMARY:Aquarellmalen für Wiedereinsteiger*innen und mit leichten Vorkenntnissen (Y9028) 
LOCATION:Kreativraum, , 
END:VEVENT
BEGIN:VEVENT
DTSTAMP:20260420T103813
DTSTART;TZID=Europe/Berlin:20260312T190000
DTEND;TZID=Europe/Berlin:20260312T210000
UID:Y9028-20260312T190000@FABICELLE
SUMMARY:Aquarellmalen für Wiedereinsteiger*innen und mit leichten Vorkenntnissen (Y9028) 
LOCATION:Kreativraum, , 
END:VEVENT
BEGIN:VEVENT
DTSTAMP:20260420T103813
DTSTART;TZID=Europe/Berlin:20260319T190000
DTEND;TZID=Europe/Berlin:20260319T210000
UID:Y9028-20260319T190000@FABICELLE
SUMMARY:Aquarellmalen für Wiedereinsteiger*innen und mit leichten Vorkenntnissen (Y9028) 
LOCATION:Kreativraum, , 
END:VEVENT
END:VCALENDAR