BEGIN:VCALENDAR
VERSION:2.0
PRODID:https://www.kufer.de/kuferweb / DE
METHOD:PUBLISH
CALSCALE:GREGORIAN
X-WR-TIMEZONE:Europe/Berlin
BEGIN:VTIMEZONE
TZID:Europe/Berlin
X-LIC-LOCATION:Europe/Berlin
BEGIN:DAYLIGHT
TZOFFSETFROM:+0100
TZOFFSETTO:+0200
TZNAME:CEST
DTSTART:19700329T020000
RRULE:FREQ=YEARLY;INTERVAL=1;BYDAY=-1SU;BYMONTH=3
END:DAYLIGHT
BEGIN:STANDARD
TZOFFSETFROM:+0200
TZOFFSETTO:+0100
TZNAME:CET
DTSTART:19701025T030000
RRULE:FREQ=YEARLY;INTERVAL=1;BYDAY=-1SU;BYMONTH=10
END:STANDARD
END:VTIMEZONE
BEGIN:VEVENT
DTSTAMP:20260420T102833
DTSTART;TZID=Europe/Berlin:20260113T184500
DTEND;TZID=Europe/Berlin:20260113T204500
UID:Y9019-20260113T184500@FABICELLE
SUMMARY:Aquarellmalen für Fortgeschrittene (Y9019) 
LOCATION:Kreativraum, , 
END:VEVENT
BEGIN:VEVENT
DTSTAMP:20260420T102833
DTSTART;TZID=Europe/Berlin:20260120T184500
DTEND;TZID=Europe/Berlin:20260120T204500
UID:Y9019-20260120T184500@FABICELLE
SUMMARY:Aquarellmalen für Fortgeschrittene (Y9019) 
LOCATION:Kreativraum, , 
END:VEVENT
BEGIN:VEVENT
DTSTAMP:20260420T102833
DTSTART;TZID=Europe/Berlin:20260127T184500
DTEND;TZID=Europe/Berlin:20260127T204500
UID:Y9019-20260127T184500@FABICELLE
SUMMARY:Aquarellmalen für Fortgeschrittene (Y9019) 
LOCATION:Kreativraum, , 
END:VEVENT
BEGIN:VEVENT
DTSTAMP:20260420T102833
DTSTART;TZID=Europe/Berlin:20260210T184500
DTEND;TZID=Europe/Berlin:20260210T204500
UID:Y9019-20260210T184500@FABICELLE
SUMMARY:Aquarellmalen für Fortgeschrittene (Y9019) 
LOCATION:Kreativraum, , 
END:VEVENT
BEGIN:VEVENT
DTSTAMP:20260420T102833
DTSTART;TZID=Europe/Berlin:20260224T184500
DTEND;TZID=Europe/Berlin:20260224T204500
UID:Y9019-20260224T184500@FABICELLE
SUMMARY:Aquarellmalen für Fortgeschrittene (Y9019) 
LOCATION:Kreativraum, , 
END:VEVENT
BEGIN:VEVENT
DTSTAMP:20260420T102833
DTSTART;TZID=Europe/Berlin:20260303T184500
DTEND;TZID=Europe/Berlin:20260303T204500
UID:Y9019-20260303T184500@FABICELLE
SUMMARY:Aquarellmalen für Fortgeschrittene (Y9019) 
LOCATION:Kreativraum, , 
END:VEVENT
BEGIN:VEVENT
DTSTAMP:20260420T102833
DTSTART;TZID=Europe/Berlin:20260310T184500
DTEND;TZID=Europe/Berlin:20260310T204500
UID:Y9019-20260310T184500@FABICELLE
SUMMARY:Aquarellmalen für Fortgeschrittene (Y9019) 
LOCATION:Kreativraum, , 
END:VEVENT
BEGIN:VEVENT
DTSTAMP:20260420T102833
DTSTART;TZID=Europe/Berlin:20260317T184500
DTEND;TZID=Europe/Berlin:20260317T204500
UID:Y9019-20260317T184500@FABICELLE
SUMMARY:Aquarellmalen für Fortgeschrittene (Y9019) 
LOCATION:Kreativraum, , 
END:VEVENT
BEGIN:VEVENT
DTSTAMP:20260420T102833
DTSTART;TZID=Europe/Berlin:20260324T184500
DTEND;TZID=Europe/Berlin:20260324T204500
UID:Y9019-20260324T184500@FABICELLE
SUMMARY:Aquarellmalen für Fortgeschrittene (Y9019) 
LOCATION:Kreativraum, , 
END:VEVENT
END:VCALENDAR